Workbook

Sheet VIG 12x36 NOTURNO
A2: VIGILÂNCIA 12 x 36 NOTURNA - Lucro Presumido - CONTA VINCULADA
A3: ANEXO XX do Pregão Nº XX/202X-COM PERI NO FIM Conta Vinculada - Com Intervalo Intrajornada MODELO DE PLANILHA DE CUSTOS E FORMAÇÃO DE PREÇOS
A4: Nº do processo:
A5: Licitação nº:
A6: Dia:
A7: DISCRIMINAÇÃO DOS SERVIÇOS (DADOS REFERENTES À CONTRATAÇÃO)
A8: A | B8: Data de apresentação da proposta (dia/mês/ano)
A9: B | B9: Município/UF | H9: Passo Fundo/RS
A10: C | B10: Ano do Acordo, Convenção ou Dissídio coletivo | H10: 1º de abril de 2024
A11: D | B11: Número de meses de execução contratual | H11: 60
A12: IDENTIFICAÇÃO DO SERVIÇO
A13: Tipo de serviço: Vigilância e Segurança Armada | F13: Unidade de Medida | H13: Quantidade total a contratar (Em função da unidade de medida)
A14: 12 x 36 horas diurnas - de segunda-feira a domingo | F14: posto | H14: -
A15: 12 x 36 horas noturnas - de segunda-feira a domingo | F15: posto | H15: 2
A16: TOTAL DE POSTOS | H16: =SUM(H14:H15) -> 2
A18: Nota 1: Esta tabela poderá ser adaptada às características do serviço contratado, inclusive no que concerne às rubricas e suas respectivas provisões e/ou estimativas, desde que haja justificativa. Nota 2: As provisões constantes desta planilha poderão ser desnecessárias quando se tratar de determinados serviços que prescindam da dedicação exclusiva dos trabalhadores da contratada para com a Administração.
A20: 1. MÓDULOS Mão de obra Mão de obra vinculada à execução contratual
A22: Dados para composição dos custos referente à mão de obra
A23: 1 | B23: Tipo de serviço (mesmo serviço com características distintas) | H23: Vigilância e Segurança Armada
A24: 2 | B24: Classificação Brasileira de Ocupações (CBO) | H24: 5173-30
A25: 3 | B25: Salário Normativo da Categoria Profissional | H25: 1977.8 | J25: 1883.2 | K25: 1977.8
A26: 4 | B26: Categoria Profissional (vinculada à execução contratual) | H26: vigilante
A27: 5 | B27: Data-Base da Categoria (dia/mês/ano) | H27: 1º de abril de 2024
A28: 6 | B28: Valor do salárioxhora sem periculosidade - VSH (s/peri) = (Valor do salário normativo / 220 h) | H28: =ROUND((H25/220),2) -> 8.99
A29: 7 | B29: Valor da hora extra sem periculosidade com 50% HE (s/peri) = valor da hora + 50% | H29: =TRUNC(H28*1.5,2) -> 13.48
A30: 8 | B30: Valor da hora do adicional noturno sem periculosidade AN (s/peri) = valor da hora x 20% | H30: =ROUND(H28*0.2,2) -> 1.8
A31: 9 | B31: Adicional de troca de uniforme sem periculosidade | H31: =ROUND(H28/6,2) -> 1.5
A32: 10 | B32: Quantidade de vigilantes por posto de serviço | H32: 2
A34: Nota 1: Deverá ser elaborado um quadro para cada tipo de serviço. Nota 2: A planilha será calculada considerando o valor mensal do empregado
A36: Módulo 1: Composição da Remuneração (por Posto)
A37: 1 | B37: Composição da Remuneração (por Posto) | H37: Percentual (%) | I37: Valor (R$)
A38: A | B38: Salário-Base (valor para 2 vigilantes = 1 posto) (cláusulas 3ª e 4ª da CCT 2024/2025) | I38: =H25*H32 -> 3955.6
A39: B | B39: Adicional Noturno sobre: 1) 7h de 60min p/dia + 2) 1,0 h reduzida noturna p/dia para o RS Cálculo do valor: AN (s/peri) x 8h)x15dx2vig. Das 22h às 5h. (cláusulas 26 da CCT 2024/2025) | I39: =ROUND(2*8*15*H30,2) -> 432
A40: C | B40: Adicional de Hora Noturna Reduzida (Hora Reduzida Noturna como Extra) (HRN que excedeu de 190,67h) Cálculo do valor: HE (s/peri) x 4,33 h x 2 vig.) --- [195h (=180h + 15h) - 190,67 = 4,33h como horas extras, sendo 15 = 15x(7hx1,1428571 – 7h) Das 22h às 5h (cláusula 26 e 74 da CCT 2024/2025) | I40: =ROUND(H32*(((12*15)+15)-((44/6)*26))*H29,2)*0+ROUND(2*4.33*H29,2) -> 116.74
A41: D | B41: Adicional para Troca de Uniforme - Cálculo do valor: 1/6 do salário-hora por dia = (VSH/6=1,34)x2x15 (cláusula 29 da CCT 2024/2025) | I41: =ROUND(H31*H32*15,2) -> 45
A42: E | B42: RSR (Repouso Semanal Remunerado) - Cálculo do valor: 20% sobre os adicionais pertinentes) - (cláusula 16 e 29 da CCT 2024/2025) | I42: =ROUND(SUM(I39:I41)*0.2,2) -> 118.75
A43: F | B43: Adicional de Periculosidade (Lei nº 12.740/2012) (30% das rubricas pertinentes) (cláusula 27 da CCT 2024/2025) | H43: 0.3 | I43: =ROUND(H43*SUM(I38:I42),2) -> 1400.43
A44: G | B44: Outros (especificar) | I44: -
A45: Remuneração 1 = Total da Remuneração de verbas de natureza salarial nas quais incidem INSS + FGTS + Férias + 13º, etc. | I45: =SUM(I38:I44) -> 6068.52
A47: H | B47: Intervalo Intrajornada (Adicional de Intervalo) Cálculo do valor: HE (s/peri) x 15d x2vigx0,5h) - (cláusula 65 da CCT 2024/2025) | I47: =ROUND(H29*15*H32*0.5,2) -> 202.2
...

Sheet VIG 12x36 DIURNO
A2: VIGILÂNCIA 12 x 36 DIURNA - Lucro Presumido - CONTA VINCULADA
A3: ANEXO XX do Pregão Nº XX/202X-COM PERI NO FIM Conta Vinculada - Com Intervalo Intrajornada MODELO DE PLANILHA DE CUSTOS E FORMAÇÃO DE PREÇOS
A4: Nº do processo:
A5: Licitação nº:
A6: Dia:
A7: DISCRIMINAÇÃO DOS SERVIÇOS (DADOS REFERENTES À CONTRATAÇÃO)
A8: A | B8: Data de apresentação da proposta (dia/mês/ano)
A9: B | B9: Município/UF | H9: Passo Fundo/RS
A10: C | B10: Ano do Acordo, Convenção ou Dissídio coletivo | H10: 1º de abril de 2024
A11: D | B11: Número de meses de execução contratual | H11: 60
A12: IDENTIFICAÇÃO DO SERVIÇO
A13: Tipo de serviço: Vigilância e Segurança Armada | F13: Unidade de Medida | H13: Quantidade total a contratar (Em função da unidade de medida)
A14: 12 x 36 horas diurnas - de segunda-feira a domingo | F14: posto | H14: 1
A15: 12 x 36 horas noturnas - de segunda-feira a domingo | F15: posto | H15: -
A16: TOTAL DE POSTOS | H16: =SUM(H14:H15) -> 1
A18: Nota 1: Esta tabela poderá ser adaptada às características do serviço contratado, inclusive no que concerne às rubricas e suas respectivas provisões e/ou estimativas, desde que haja justificativa. Nota 2: As provisões constantes desta planilha poderão ser desnecessárias quando se tratar de determinados serviços que prescindam da dedicação exclusiva dos trabalhadores da contratada para com a Administração.
A20: 1. MÓDULOS Mão de obra Mão de obra vinculada à execução contratual
A22: Dados para composição dos custos referente à mão de obra
A23: 1 | B23: Tipo de serviço (mesmo serviço com características distintas) | H23: Vigilância e Segurança Armada
A24: 2 | B24: Classificação Brasileira de Ocupações (CBO) | H24: 5173-30
A25: 3 | B25: Salário Normativo da Categoria Profissional | H25: 1977.8
A26: 4 | B26: Categoria Profissional (vinculada à execução contratual) | H26: vigilante
A27: 5 | B27: Data-Base da Categoria (dia/mês/ano) | H27: 1º de abril de 2024
A28: 6 | B28: Valor do salárioxhora sem periculosidade - VSH (s/peri) = (Valor do salário normativo / 220 h) | H28: =ROUND((H25/220),2) -> 8.99
A29: 7 | B29: Valor da hora extra sem periculosidade com 50% HE (s/peri) = valor da hora + 50% | H29: =TRUNC(H28*1.5,2) -> 13.48
A30: 8 | B30: Valor da hora do adicional noturno sem periculosidade AN (s/peri) = valor da hora x 20% | H30: =ROUND(H28*0.2,2) -> 1.8
A31: 9 | B31: Adicional de troca de uniforme sem periculosidade | H31: =ROUND(H28/6,2) -> 1.5
A32: 10 | B32: Quantidade de vigilantes por posto de serviço | H32: 2
A34: Nota 1: Deverá ser elaborado um quadro para cada tipo de serviço. Nota 2: A planilha será calculada considerando o valor mensal do empregado
A36: Módulo 1: Composição da Remuneração (por Posto)
A37: 1 | B37: Composição da Remuneração (por Posto) | H37: Percentual (%) | I37: Valor (R$)
A38: A | B38: Salário-Base (valor para 2 vigilantes = 1 posto) (cláusulas 3ª e 4ª da CCT 2024/2025) | I38: =H25*H32 -> 3955.6
A39: B | B39: Adicional para Troca de Uniforme - Cálculo do valor: 1/6 do salário-hora por dia = (VSH/6=1,34)x2x15 (cláusula 29 da CCT 2024/2025) | I39: =ROUND($H$31*H32*15,2) -> 45
A40: C | B40: RSR (Repouso Semanal Remunerado) - Cláusulas 16 e 29 da CCT 2024/2025 - Cálculo do valor: 20% sobre os adicionais pertinentes) | I40: =ROUND(SUM(I39:I39)*0.2,2) -> 9
A41: D | B41: Adicional de Periculosidade (Lei nº 12.740/2012) (30% das rubricas pertinentes) (cláusula 27 da CCT 2024/2025) | H41: 0.3 | I41: =ROUND(H41*SUM(I38:I40),2) -> 1202.88
A42: E | B42: Outros (especificar) | I42: -
A43: Remuneração 1 = Total da Remuneração de verbas de natureza salarial nas quais incidem INSS + FGTS + Férias + 13º, etc. | I43: =SUM(I38:I42) -> 5212.48
A45: F | B45: Intervalo Intrajornada (Adicional de Intervalo) Cálculo do valor: HE (s/peri) x 15d x2vigx0,5h) - (cláusula 65 da CCT 2024/2025) | I45: =ROUND(H29*15*H32*0.5,2) -> 202.2
A46: Total da verba de natureza salarial na qual incidem somente INSS (mais terceiras entidades) e FGTS, em face da Solução de Consulta RFB/Cosit nº 108/2023 e Parecer Jurídico. Empregado só recebe se estiver trabalhando. | I46: =I45 -> 202.2
A48: Remuneração 2 = Total da Remuneração que o empregado irá receber Valor entra nos seguintes cálculos: Item 2, "A" - Quadro-Resumo do Custo por Posto de Trabalho, Custos Indiretos, Lucro e Tributos. | I48: =I43+I46 -> 5414.68
...

Sheet VIGILÂNCIA ELETRÔNICA
A2: VIGILÂNCIA ELETRÔNICA - 24 H DIÁRIAS DE SEGUNDA-FEIRA A DOMINGO - Lucro Presumido
A3: ANEXO XX do Pregão Nº XX/202X - MODELO DE PLANILHA DE CUSTOS E FORMAÇÃO DE PREÇOS
A4: Nº do processo:
A5: Licitação nº:
A6: Dia:
A7: DISCRIMINAÇÃO DOS SERVIÇOS (DADOS REFERENTES À CONTRATAÇÃO)
A8: A | B8: Data de apresentação da proposta (dia/mês/ano)
A9: B | B9: Município/UF | H9: Passo Fundo/RS
A10: D | B10: Número de meses de execução contratual | H10: 60
A11: IDENTIFICAÇÃO DO SERVIÇO
A12: Tipo de serviço: Auxiliar de Vigilância Patrimonial | F12: Unidade de Medida | H12: Quantidade total a contratar (Em função da unidade de medida)
A13: 24 (vinte e quatro) horas, 7 (sete) dias por semana de Vigilância Eletrônica | F13: serviço | H13: 1
A15: 1. MÓDULOS Serviço de Videomonitoramento
A17: Módulo 1: Insumos Diversos para Serviço de Vigilância Eletrônica
A19: 1.1 | B19: INSUMOS (Insumos de Implantação e/ou benfeitorias - sem prazo de vida útil determinado, mas com rateio pelo período previsto de execução contratual) | D19: Unidade | E19: Quantidade a disponibilizar | F19: Rateio (em meses) | G19: Quantidade Anual | H19: Valor Unitário | I19: Custo Anual
A20: A | B20: Especificar e detalhar insumos diversos de implantação e/ou benfeitorias, tais como cabo lan-cat25, cabo lan blindado subterrâneo, cabo óptico drop F8 SM fibras, kit de instalação de conectores, cintas, tubulação 3/4 branca, eltroduto 1", postes de instalação de cameras, hastes para extensão de posicionamento de câmeras, mão-de-obra para implantação e benfeitorias, e outros, etc. | D20: especificar | E20: 1 | F20: 60 | G20: =12/F20*E20 -> 0.2 | H20: 4000 | I20: =G20*H20 -> 800
A21: B | B21: especificar | D21: especificar | I21: =G21*H21 -> 0
A22: C | B22: especificar | D22: especificar | I22: =G22*H22 -> 0
A23: D | B23: especificar | D23: especificar | I23: =G23*H23 -> 0
A24: E | B24: especificar | D24: especificar | I24: =G24*H24 -> 0
A25: F | B25: especificar | D25: especificar | I25: =G25*H25 -> 0
A26: G | B26: especificar | D26: especificar | I26: =G26*H26 -> 0
A27: H | B27: especificar | D27: especificar | I27: =G27*H27 -> 0
A28: I | B28: especificar | D28: especificar | I28: =G28*H28 -> 0
A29: J | B29: especificar | D29: especificar | I29: =G29*H29 -> 0
A30: CUSTO ANUAL DOS INSUMOS | I30: =SUM(I20:I29) -> 800
A31: CUSTO MENSAL DOS INSUMOS | I31: =ROUND(I30/12,2) -> 66.67
A33: 1.2 | B33: MATERIAIS (materiais diversos que complementam os equipamentos a serem disponibilizados em comodato, sem depreciação, mas com vida util definida) | D33: Unidade | E33: Quantidade a disponibilizar | F33: Vida Útil (em meses) | G33: Quantidade Anual | H33: Valor Unitário | I33: Custo Anual
A34: A | B34: Detalhar materiais diversos que complementam os equipamentos a serem disponibilizados em comodato, tais como fonte adaptadora POE para câmeras, conversor (par) para câmeras, caixa hermética baby 145x105x70, , mini rack de parede 19 polegadas, régua de tomadas, placas de sinalização e de advertência de ambiente monitorado, espelho convexo de 60cm, mão-de-obra de instalação de materiais e equipamentos, licença de uso de protocolos e softwares, e outros, etc. | D34: especificar | E34: 1 | F34: 60 | G34: =12/F34*E34 -> 0.2 | H34: 4000 | I34: =G34*H34 -> 800
A35: B | B35: especificar | D35: especificar | I35: =G35*H35 -> 0
A36: C | B36: especificar | D36: especificar | I36: =G36*H36 -> 0
A37: D | B37: especificar | D37: especificar | I37: =G37*H37 -> 0
A38: E | B38: especificar | D38: especificar | I38: =G38*H38 -> 0
A39: F | B39: especificar | D39: especificar | I39: =G39*H39 -> 0
A40: G | B40: especificar | D40: especificar | I40: =G40*H40 -> 0
A41: H | B41: especificar | D41: especificar | I41: =G41*H41 -> 0
A42: I | B42: especificar | D42: especificar | I42: =G42*H42 -> 0
A43: J | B43: especificar | D43: especificar | I43: =G43*H43 -> 0
A44: CUSTO ANUAL DOS MATERIAIS | I44: =SUM(I34:I43) -> 800
A45: CUSTO MENSAL DOS MATERIAIS | I45: =ROUND(I44/12,2) -> 66.67
...

Sheet INSUMOS DOS POSTOS
B2: INSUMOS DIVERSOS - POSTO VIGILANTE
C4: MATERIAIS - VIGILANTE | D4: Unidade | E4: Quantidade a disponibilizar por posto | F4: Vida Útil (em meses) | G4: Quantidade Anual | H4: Valor Unitário | I4: Custo Anual
C5: Colete Balístico homologado | D5: pç | E5: 1 | F5: 60 | G5: =12/F5*E5 -> 0.2 | H5: 2409.54 | I5: =G5*H5 -> 481.908
C6: lanterna recarregavél de led | D6: pç | E6: 1 | F6: 12 | G6: =12/F6*E6 -> 1 | H6: 75.41 | I6: =G6*H6 -> 75.41
C7: Cassetete | D7: pç | E7: 1 | F7: 60 | G7: =12/F7*E7 -> 0.2 | H7: 106.26 | I7: =G7*H7 -> 21.252
C8: Cartela com 10 munições calibri 38. | D8: pç | E8: 2 | F8: 12 | G8: =12/F8*E8 -> 2 | H8: 112.5 | I8: =G8*H8 -> 225
C9: Crachá | D9: pç | E9: 2 | F9: 24 | G9: =12/F9*E9 -> 1 | H9: 6.94 | I9: =G9*H9 -> 6.94
C11: CUSTO ANUAL DOS UTENSÍLIOS | I11: =SUM(I5:I10) -> 810.51
C12: CUSTO MENSAL DOS UTENSÍLIOS | I12: =ROUND(I11/12,2) -> 67.54
C14: EQUIPAMENTOS - VIGILANTE | D14: Unidade | E14: Quantidade a disponibilizar por posto | F14: Depreciação (em meses) | G14: Quantidade Anual | H14: Valor Unitário | I14: Custo Anual
C15: Revólver calíbre 38. | D15: pç | E15: 1 | F15: 60 | G15: =12/F15*E15 -> 0.2 | H15: 8903.86 | I15: =G15*H15 -> 1780.772
C16: kit bastão de ronda para controle de vigias com 6 Ibuttons | D16: pç | E16: 1 | F16: 60 | G16: =12/F16*E16 -> 0.2 | H16: 731.99 | I16: =G16*H16 -> 146.398
C17: Radios comunicadores | D17: pç | E17: 2 | F17: 60 | G17: =12/F17*E17 -> 0.4 | H17: 590.45 | I17: =G17*H17 -> 236.18
C20: CUSTO ANUAL DOS EQUIPAMENTOS | I20: =SUM(I15:I19) -> 2163.35
C21: CUSTO MENSAL DOS EQUIPAMENTOS | I21: =I20/12 -> 180.27917
C23: UNIFORMES - VIGILANTE (individual para posto) | D23: Unidade | E23: Quantidade semestral por trabalhador | F23: Quantidade anual por trabalhador | G23: Quantidade anual por posto | H23: Valor Unitário | I23: Custo Anual
C24: Calça | D24: pç | E24: 2 | F24: =E24*2 -> 4 | G24: =F24*2 -> 8 | H24: 75 | I24: =G24*H24 -> 600
C25: Camisa de manga curta | D25: pç | E25: 2 | F25: =E25*2 -> 4 | G25: =F25*2 -> 8 | H25: 84.66 | I25: =G25*H25 -> 677.28
C26: camisa de manga longa | D26: pç | E26: 2 | F26: =E26*2 -> 4 | G26: =F26*2 -> 8 | H26: 130.25 | I26: =G26*H26 -> 1042
C27: Cinto nylon | D27: pç | E27: 1 | F27: =E27*2 -> 2 | G27: =F27*2 -> 4 | H27: 5 | I27: =G27*H27 -> 20
C28: Jaqueta/Japona de Nylon | D28: pç | E28: 1 | F28: =E28*2 -> 2 | G28: =F28*2 -> 4 | H28: 206.46 | I28: =G28*H28 -> 825.84
C29: Capa de chuva | D29: pç | E29: 1 | F29: =E29*2 -> 2 | G29: =F29*2 -> 4 | H29: 32.22 | I29: =G29*H29 -> 128.88
C30: Boné ou quepe | D30: pç | E30: 1 | F30: =E30*2 -> 2 | G30: =F30*2 -> 4 | H30: 22.86 | I30: =G30*H30 -> 91.44
C31: Botas de chuva | D31: par | E31: 0.5 | F31: =E31*2 -> 1 | G31: =F31*2 -> 2 | H31: 45.01 | I31: =G31*H31 -> 90.02
C32: Cinto com Coldre e baleiro | D32: pç | E32: 1 | F32: =E32*2 -> 2 | G32: =F32*2 -> 4 | H32: 86.9 | I32: =G32*H32 -> 347.6
C33: Apito | D33: pç | E33: 0.5 | F33: =E33*2 -> 1 | G33: =F33*2 -> 2 | H33: 10.63 | I33: =G33*H33 -> 21.26
C34: Cordão de apito | D34: pç | E34: 0.5 | F34: =E34*2 -> 1 | G34: =F34*2 -> 2 | H34: 1.1 | I34: =G34*H34 -> 2.2
C35: Porta cassetete | D35: pç | E35: 0.5 | F35: =E35*2 -> 1 | G35: =F35*2 -> 2 | H35: 29.13 | I35: =G35*H35 -> 58.26
... C37: Capa colete Balístico | D37: pç | E37: 1 | F37: =E37*2 -> 2 | G37: =F37*2 -> 4 | H37: 247.61 | I37: =G37*H37 -> 990.44
C39: CUSTO ANUAL DOS UNIFORMES | I39: =SUM(I24:I38) -> 5110.9
C40: CUSTO MENSAL DOS UNIFORMES | I40: =ROUND(I39/12,2) -> 425.91
B43: INSUMOS DE USO GERAL (Vigilante)
C46: EQUIPAMENTOS DE USO GERAL - VIGILANTES | D46: Unidade | E46: Quantidade a disponibilizar | F46: Depreciação (em meses) | G46: Quantidade Anual | H46: Valor Unitário | I46: Custo Anual
C47: Ponto biométrico | D47: pç | E47: 1 | F47: 60 | G47: =12/F47*E47 -> 0.2 | H47: 1980.49 | I47: =G47*H47 -> 396.098
C48: Cofre para guarda do armamento, munição, e colete balístico (dimensões mínimas 1m x 0,4m x 0,4m) | D48: pç | E48: 1 | F48: 60 | G48: 0.2 | H48: 1812.36 | I48: =G48*H48 -> 362.472
C49: CUSTO ANUAL DOS EQUIPAMENTOS | I49: =SUM(I47:I48) -> 758.57
C50: CUSTO MENSAL DOS EQUIPAMENTOS | I50: =I49/12 -> 63.214167
B53: QUADRO RESUMO
C56: QUADRO RESUMO - VIGILANTE NOTURNO | D56: CUSTO ANUAL | F56: CUSTO MENSAL | H56: Número de Postos | I56: Custo Mensal Total | J56: Custo Mensal por Posto
C57: =C4 -> MATERIAIS - VIGILANTE | D57: =I11 -> 810.51 | E57: =SUM(D57:D57) -> 810.51 | F57: =ROUND(D57/12,2) -> 67.54 | H57: 2 | I57: =F57*1 -> 67.54 | J57: =ROUND(I57/H57,2) -> 33.77
...

Sheet Local Câmeras PDF

Sheet Identificação Câmeras
B2: Ponto de Observação | D2: Ambiente | F2: Resolução | I2: Ângulo de Abertura | J2: Alcance | K2: Sensor Inteligencia | M2: Visão Noturna Infravermelho
D3: interno | E3: externo | F3: 720p | G3: 1080p | H3: 4k | K3: Sim | L3: Não | M3: Sim | N3: Não
B4: 1 | C4: Acesso a Campus, à esquerda. | E4: X | G4: X | I4: 60° | J4: até 50 m | K4: X | M4: X
B5: =B4+1 -> 2 | C5: Acesso a Campus, à direita. | E5: X | G5: X | I5: 60° | J5: até 50 m | K5: X | M5: X
B6: =B5+1 -> 3 | C6: Estacionamento em frente ao prédio 1, à esquerda. | E6: X | G6: X | I6: 90° | J6: até 50 m | K6: X | M6: X
B7: =B6+1 -> 4 | C7: Estacionamento em frente ao prédio 1, à direita. | E7: X | G7: X | I7: 90° | J7: até 25 m | K7: X | M7: X
B8: =B7+1 -> 5 | C8: Entrada dos estudantes. | E8: X | H8: X | I8: 45° | J8: até 25 m | L8: X | M8: X
B9: =B8+1 -> 6 | C9: Estacionamento em frente ao prédio 4. | E9: X | G9: X | I9: 60° | J9: até 50 m | K9: X | M9: X
B10: =B9+1 -> 7 | C10: Espaço em frente a caixa d'água e subestação. | E10: X | G10: X | I10: 90° | J10: até 25 m | K10: X | M10: X
B11: =B10+1 -> 8 | C11: Estacionamento lateral ao prédio 1. | E11: X | G11: X | I11: 90° | J11: até 50 m | K11: X | M11: X
B12: =B11+1 -> 9 | C12: Espaço entre as salas modulares. | E12: X | G12: X | I12: 120° | J12: até 25 m | K12: X | M12: X
B13: =B12+1 -> 10 | C13: Espaço aos fundos do prédio 1. | E13: X | G13: X | I13: 90° | J13: até 25 m | K13: X | M13: X
B14: =B13+1 -> 11 | C14: Acesso à biblioteca. | E14: X | G14: X | I14: 90° | J14: até 50 m | K14: X | M14: X
B15: =B14+1 -> 12 | C15: Acesso ao Auditório. | E15: X | G15: X | I15: 90° | J15: até 25 m | K15: X | M15: X
B16: =B15+1 -> 13 | C16: Descida lateral ao Predio 2. | E16: X | G16: X | I16: 90° | J16: até 25 m | K16: X | M16: X
B17: =B16+1 -> 14 | C17: Acesso aos conteineres Comag/Coap. | E17: X | G17: X | I17: 90° | J17: até 25 m | K17: X | M17: X
B18: =B17+1 -> 15 | C18: Lateral prédio 2 e divisa Accialama. | E18: X | G18: X | I18: 90° | J18: até 50 m | K18: X | M18: X
B19: =B18+1 -> 16 | C19: Acesso aos prédios 2 e 3. | E19: X | G19: X | I19: 90° | J19: até 25 m | K19: X | M19: X
B20: =B19+1 -> 17 | C20: Fundos prédio 3 (laboratórios) e laboratório predio 7. | E20: X | G20: X | I20: 90° | J20: até 50 m | K20: X | M20: X
... B22: =B21+1 -> 19 | C22: Lateral prédio 5 e divisa com Accialama. | E22: X | G22: X | I22: 60° | J22: até 50 m | K22: X | M22: X
B23: =B22+1 -> 20 | C23: Fundos prédio 5 e visada até os muros sul e oeste. | E23: X | H23: X | I23: 60° | J23: até 100 m | L23: X | M23: X
B24: =B23+1 -> 21 | C24: Lateral do prédio 5 e laboratório do predio 7. | E24: X | G24: X | I24: 90° | J24: até 50 m | K24: X | M24: X
B25: =B24+1 -> 22 | C25: Caminho de acesso a quadra de esportes e divisa Apace. | E25: X | G25: X | I25: 120° | J25: até 100 m | K25: X | M25: X
B26: =B25+1 -> 23 | C26: Fundos do Prédio 7 e visada do muro oeste. | E26: X | H26: X | I26: 120° | J26: até 100 m | L26: X | M26: X
B27: =B26+1 -> 24 | C27: Visada do muro norte e portão Br 285. | E27: X | G27: X | I27: 120° | J27: até 100 m | K27: X | M27: X
P46: Interna & curto alcance | Q46: Externa & curto alcance | R46: Externa & longo alcance
P48: 1 - área interna da guarita | Q48: 1 - no portão de entrada de veículos | R48: 1 - muro da BR 285
P49: 1 - no rescinto do vigilante que fica no pátio | Q49: 1 - no portão de saída dos veículos | R49: 1 - muro gradil perimetral
Q50: 1 - no portão de entrada de pessoas | R50: 1 - divisa APAC
Q51: 1 - no portão de saída de pessoas | R51: 1 - divisa ACIALAMA
Q52: 1 - no portão da BR 285 | R52: 1 - fundos do IFSUL
Q53: 1 - na entrada da quadra de esportes
Q54: 1 - na caixa d'água
B56: Predio 1 | P56: 1 - na porta de entrada | Q56: 1 - lateral norte (passarela)
P57: 1 - na porta dos fundos | Q57: 1 - lateral leste (frente)
P58: 1 - no corredor da corac/direção/ponto | Q58: 1 - lateral sul (estacionamento)
P59: 1 - no corredor do deap/coap | Q59: 1 - lateral oeste 1 (gabdir)
Q60: 1 - lateral oeste (assistencia) | T60: 100
Q61: 5 - porta de entrada das salas modulares | T61: 6
T62: 0.2
...

Sheet RESUMO
A2: RESUMO
A3: ANEXO XX do Pregão Nº XX/202X MODELO DE PLANILHA DE CUSTOS E FORMAÇÃO DE PREÇOS
A4: Nº do processo:
A5: Licitação nº:
A6: Dia:
A7: DISCRIMINAÇÃO DOS SERVIÇOS (DADOS REFERENTES À CONTRATAÇÃO)
A8: A | B8: Data de apresentação da proposta (dia/mês/ano)
A9: B | B9: Município/UF | H9: Passo Fundo/RS
A10: C | B10: Ano do Acordo, Convenção ou Dissídio coletivo | H10: 1º de abril de 2024
A11: D | B11: Número de meses de execução contratual | H11: 60
A12: IDENTIFICAÇÃO DO SERVIÇO
A13: O complemento abaixo é uma planilha auxiliar que consolida as várias planilhas com os diferentes tipos de postos
A16: 3. COMPLEMENTO DOS SERVIÇOS DE VIGILÂNCIA – VALOR MENSAL DOS SERVIÇOS
A17: ESCALA DE TRABALHO | E17: PREÇO MENSAL DO POSTO (R$) | G17: NÚMERO DE POSTOS | H17: SUBTOTAL (R$)
A18: Grupo 1 | B18: Item 1 | C18: 12 horas noturnas, de segunda-feira a domingo, envolvendo 2 (dois) vigilantes em turnos de 12 (doze) por 36 (trinta e seis) horas | E18: ='VIG 12x36 NOTURNO'!I183 -> 14359.94 | G18: 2 | H18: =E18*G18 -> 28719.88
B19: Item 2 | C19: 12 horas diurnas, de segunda-feira a domingo, envolvendo 2 (dois) vigilantes em turnos de 12 (doze) por 36 (trinta e seis) horas | E19: ='VIG 12x36 DIURNO'!I181 -> 12966.04 | G19: 1 | H19: =E19*G19 -> 12966.04
B20: Item 3 | C20: 24 (vinte e quatro) horas, 7 (sete) dias por semana de Vigilância Eletrônica | H20: ='VIGILÂNCIA ELETRÔNICA'!G114 -> 10968.76
A22: TOTAL: | H22: =H19+H18+H20 -> 52654.68
A24: Nota: Nos casos de inclusão de outros tipos de postos, observar o disposto no item 4 do Anexo VI-A, desta Instrução Normativa
A26: Valor mensal do serviço | H26: =$H$22 -> 52654.68
A28: Número de meses do contrato | H28: =$H$11 -> 60
A30: Valor global da proposta (valor mensal do serviço x nº de meses do contrato) | H30: =ROUND(H26*H28,2) -> 3159280.8
A32: QUANTIDADE DE PESSOAL ALOCADO NA EXECUÇÃO CONTRATUAL (item 6.2.e do Anexo VII da IN nº 5/2017 e item XXXX do edital)
A33: Tipo de Mão de Obra | D33: Quantidade de Pessoal
A35: Vigilante Noturno - 12/36H | D35: 4
A36: Vigilante Diurno - 12/36H | D36: 2
A37: TOTAL | D37: =SUM(D35:I36) -> 6
A40: Prazo de validade do Orçamento: 120 dias
A41: Nome do responsavel pelo orçamento: XXXXXXXXXXXXXXXX
A42: Razão social da empresa: XXXXXXXXXXXXXXXX
A43: CNPJ da empresa: XXXXXXXXXXXXXXXX
A44: Endereço da empresa: XXXXXXXXXXXXXXXX
A45: Telefone da empresa: XXXXXXXXXXXXXXXX
A46: Site da empresa: XXXXXXXXXXXXXXXX
A47: Declaração: Neste orçamento estão inclusos todos os custos e despesas para execução total dos serviços, incluindo impostos, taxas, lucro, custos indiretos, etc.
A50: XXXXXXXXXXXXXXXX, XX de XXXXXXXXXXXXXXXX de 20XX.
C54: assinatura do responsavel pelo orçamanto na empresa
