Workbook

Sheet ASP 44H - NOTURNO (44H)
A2: ASP NOTURNO 44 H SEMANAIS DE SEGUNDA-FEIRA A SÁBADO - Lucro Presumido - CONTA VINCULADA
A3: ANEXO XX do Pregão Nº XX/202X-Conta Vinculada MODELO DE PLANILHA DE CUSTOS E FORMAÇÃO DE PREÇOS
A4: Nº do processo:
A5: Licitação nº:
A6: Dia:
A7: DISCRIMINAÇÃO DOS SERVIÇOS (DADOS REFERENTES À CONTRATAÇÃO)
A8: A | B8: Data de apresentação da proposta (dia/mês/ano)
A9: B | B9: Município/UF | H9: Passo Fundo/RS
A10: C | B10: Ano do Acordo, Convenção ou Dissídio coletivo | H10: 1º de abril de 2024
A11: D | B11: Número de meses de execução contratual | H11: 60
A12: IDENTIFICAÇÃO DO SERVIÇO
A13: Tipo de serviço: Auxiliar de Vigilância Patrimonial | F13: Unidade de Medida | H13: Quantidade total a contratar (Em função da unidade de medida)
A14: 44 horas semanais diurnas - de segunda à sábado | F14: posto | H14: -
A15: 44 horas semanais noturnas - de segunda à sábado | F15: posto | H15: 2
A16: TOTAL DE POSTOS | H16: =SUM(H14:H15) -> 2
A18: Nota 1: Esta tabela poderá ser adaptada às características do serviço contratado, inclusive no que concerne às rubricas e suas respectivas provisões e/ou estimativas, desde que haja justificativa. Nota 2: As provisões constantes desta planilha poderão ser desnecessárias quando se tratar de determinados serviços que prescindam da dedicação exclusiva dos trabalhadores da contratada para com a Administração.
A20: 1. MÓDULOS Mão de obra Mão de obra vinculada à execução contratual
A22: Dados para composição dos custos referente à mão de obra
A23: 1 | B23: Tipo de serviço (mesmo serviço com características distintas) | H23: Auxilar de Serviços Patrimoniais
A24: 2 | B24: Classificação Brasileira de Ocupações (CBO) | H24: 5174-20
A25: 3 | B25: Salário Normativo da Categoria Profissional | H25: 1654.4
A26: 4 | B26: Categoria Profissional (vinculada à execução contratual) | H26: Aux. Serv. Patrimoniais
A27: 5 | B27: Data-Base da Categoria (dia/mês/ano) | H27: 1º de abril de 2024
A28: 6 | B28: Valor do salárioxhora sem periculosidade - VSH (s/peri) = (Valor do salário normativo / 220 h) | H28: =ROUND((H25/220),2) -> 7.52
A29: 7 | B29: Valor da hora extra sem periculosidade com 50% HE (s/peri) = valor da hora + 50% | H29: =TRUNC(H28*1.5,2) -> 11.28
A30: 8 | B30: Valor da hora do adicional noturno sem periculosidade AN (s/peri) = valor da hora x 20% | H30: =ROUND(H28*0.2,2) -> 1.5
A31: 9 | B31: Quantidade de ASP por posto de serviço | H31: 1
A33: Nota 1: Deverá ser elaborado um quadro para cada tipo de serviço. Nota 2: A planilha será calculada considerando o valor mensal do empregado
A35: Módulo 1: Composição da Remuneração (por Posto)
A36: 1 | B36: Composição da Remuneração (por Posto) | H36: Percentual (%) | I36: Valor (R$)
A37: A | B37: Salário-Base (valor para 1 ASP = 1 posto) (cláusulas 5ª e 6ª da CCT 2024/2025) | I37: =H25*H31 -> 1654.4
A38: B | B38: Adicional Noturno sobre: 1) 7h de 60min p/dia + 2) 1,0 h reduzida noturna p/dia para o RS Cálculo do valor: AN (s/peri) x 1h)x22dx1ASP. Das 22h às 23h. (cláusulas 26 da CCT 2024/2025) | I38: =ROUND(1*1*22*H30,2) -> 33
A39: C | B39: Adicional de Hora Noturna Reduzida (Hora Reduzida Noturna como Extra) (HRN) Cálculo do valor: (Valor da hora + 50%) x 1 h x 22D x (60min-52,5min) / 60 min x 1 ASP) Das 22h às 23h (art. 73 da CLT e cláusula 74 da CCT 2024/2025) | I39: =ROUND(H29*H31*22*((60-52.5)/60),2) -> 31.02
A40: D | B40: RSR (Repouso Semanal Remunerado) - Cálculo do valor: 20% sobre os adicionais pertinentes) - (cláusula 16 da CCT 2024/2025) | I40: =ROUND(SUM(I38:I39)*0.2,2) -> 12.8
A41: Remuneração 1 = Total da Remuneração de verbas de natureza salarial nas quais incidem INSS + FGTS + Férias + 13º, etc. | I41: =SUM(I37:I40) -> 1731.22
A43: E | B43: Intervalo Intrajornada (Adicional de Intervalo) Cálculo do valor: HE (s/peri) x 15d x2vigx0,5h) - (cláusula 65 da CCT 2024/2025) - este posto fará intervalo para refeições | I43: 0
A44: Total da verba de natureza salarial na qual incidem somente INSS (mais terceiras entidades) e FGTS, em face da Solução de Consulta RFB/Cosit nº 108/2023 e Parecer Jurídico - Empregado só recebe se estiver trabalhando. Consulte sua assessoria jurídica | I44: =I43 -> 0
A46: Remuneração 2 = Total da Remuneração que o empregado irá receber- Valor entra nos seguintes cálculos: Item 2, "A" - Quadro-Resumo do Custo por Posto de Trabalho, Custos Indiretos, Lucro e Tributos. | I46: =I41+I44 -> 1731.22
A48: Nota1: O Módulo 1 refere-se ao valor mensal devido ao empregado pela prestação do serviço no período de 12 meses.
A50: Módulo 2 : Encargos e Benefícios Anuais, Mensais e Diários
...

Sheet ASP 44H - DIURNO (44H)
A2: ASP DIURNO 44 H SEMANAIS DE SEGUNDA-FEIRA A SÁBADO - Lucro Presumido - CONTA VINCULADA
A3: ANEXO XX do Pregão Nº XX/202X-Conta Vinculada MODELO DE PLANILHA DE CUSTOS E FORMAÇÃO DE PREÇOS
A4: Nº do processo:
A5: Licitação nº:
A6: Dia:
A7: DISCRIMINAÇÃO DOS SERVIÇOS (DADOS REFERENTES À CONTRATAÇÃO)
A8: A | B8: Data de apresentação da proposta (dia/mês/ano)
A9: B | B9: Município/UF | H9: Passo Fundo/RS
A10: C | B10: Ano do Acordo, Convenção ou Dissídio coletivo | H10: 1º de abril de 2024
A11: D | B11: Número de meses de execução contratual | H11: 60
A12: IDENTIFICAÇÃO DO SERVIÇO
A13: Tipo de serviço: Auxiliar de Vigilância Patrimonial | F13: Unidade de Medida | H13: Quantidade total a contratar (Em função da unidade de medida)
A14: 44 horas semanais diurnas - de segunda à sábado | F14: posto | H14: 2
A15: 44 horas semanais noturnas - de segunda à sábado | F15: posto | H15: -
A16: TOTAL DE POSTOS | H16: =SUM(H14:H15) -> 2
A18: Nota 1: Esta tabela poderá ser adaptada às características do serviço contratado, inclusive no que concerne às rubricas e suas respectivas provisões e/ou estimativas, desde que haja justificativa. Nota 2: As provisões constantes desta planilha poderão ser desnecessárias quando se tratar de determinados serviços que prescindam da dedicação exclusiva dos trabalhadores da contratada para com a Administração.
A20: 1. MÓDULOS Mão de obra Mão de obra vinculada à execução contratual
A22: Dados para composição dos custos referente à mão de obra
A23: 1 | B23: Tipo de serviço (mesmo serviço com características distintas) | H23: Auxilar de Serviços Patrimoniais
A24: 2 | B24: Classificação Brasileira de Ocupações (CBO) | H24: 5174-20
A25: 3 | B25: Salário Normativo da Categoria Profissional | H25: 1654.4
A26: 4 | B26: Categoria Profissional (vinculada à execução contratual) | H26: Aux. Serv. Patrimoniais
A27: 5 | B27: Data-Base da Categoria (dia/mês/ano) | H27: 1º de abril de 2024
A28: 6 | B28: Valor do salárioxhora sem periculosidade - VSH (s/peri) = (Valor do salário normativo / 220 h) | H28: =ROUND((H25/220),2) -> 7.52
A29: 7 | B29: Valor da hora extra sem periculosidade com 50% HE (s/peri) = valor da hora + 50% | H29: =TRUNC(H28*1.5,2) -> 11.28
A30: 8 | B30: Valor da hora do adicional noturno sem periculosidade AN (s/peri) = valor da hora x 20% | H30: =ROUND(H28*0.2,2) -> 1.5
A31: 9 | B31: Quantidade de ASP por posto de serviço | H31: 1
A33: Nota 1: Deverá ser elaborado um quadro para cada tipo de serviço. Nota 2: A planilha será calculada considerando o valor mensal do empregado
A35: Módulo 1: Composição da Remuneração (por Posto)
A36: 1 | B36: Composição da Remuneração (por Posto) | H36: Percentual (%) | I36: Valor (R$)
A37: A | B37: Salário-Base (valor para 2 vigilantes = 1 posto) (cláusulas 5ª e 6ª da CCT 2024/2025) | I37: =H25*H31 -> 1654.4
A38: B | B38: Adicional Noturno sobre: 1) 7h de 60min p/dia + 2) 1,0 h reduzida noturna p/dia para o RS Cálculo do valor: AN (s/peri) x 1h)x22dx1ASP. (cláusulas 26 da CCT 2024/2025) Este posto não atuará após as 22h. | I38: =ROUND(2*8*0*H30,2) -> 0
A39: C | B39: Adicional de Hora Noturna Reduzida (Hora Reduzida Noturna como Extra) (HRN) Cálculo do valor: (Valor da hora + 50%) x 1 h x 22D x (60min-52,5min) / 60 min x 1 ASP). (art. 73 da CLT e cláusula 74 da CCT 2024/2025) Este Posto não atuará após as 22h. | I39: =ROUND(H29*H31*0*((60-52.5)/60),2) -> 0
A40: D | B40: RSR (Repouso Semanal Remunerado) - Cálculo do valor: 20% sobre os adicionais pertinentes) - (cláusula 16 da CCT 2024/2025) | I40: =ROUND(SUM(I38:I39)*0.2,2) -> 0
A41: Remuneração 1 = Total da Remuneração de verbas de natureza salarial nas quais incidem INSS + FGTS + Férias + 13º, etc. | I41: =SUM(I37:I40) -> 1654.4
A43: E | B43: Intervalo Intrajornada (Adicional de Intervalo) Cálculo do valor: HE (s/peri) x 15d x2vigx0,5h) - (cláusula 65 da CCT 2024/2025) - este posto fará intervalo para refeições | I43: 0
A44: Total da verba de natureza salarial na qual incidem somente INSS (mais terceiras entidades) e FGTS, em face da Solução de Consulta RFB/Cosit nº 108/2023 e Parecer Jurídico - Empregado só recebe se estiver trabalhando. Consulte sua assessoria jurídica | I44: =I43 -> 0
A46: Remuneração 2 = Total da Remuneração que o empregado irá receber- Valor entra nos seguintes cálculos: Item 2, "A" - Quadro-Resumo do Custo por Posto de Trabalho, Custos Indiretos, Lucro e Tributos. | I46: =I41+I44 -> 1654.4
A48: Nota1: O Módulo 1 refere-se ao valor mensal devido ao empregado pela prestação do serviço no período de 12 meses.
A50: Módulo 2 : Encargos e Benefícios Anuais, Mensais e Diários
...

Sheet INSUMOS DOS POSTOS
B2: INSUMOS DIVERSOS - ASP (Auxiliar de Serviços Patrimoniais)
C5: MATERIAIS - ASP | D5: Unidade | E5: Quantidade a disponibilizar por posto | F5: Vida Útil (em meses) | G5: Quantidade Anual | H5: Valor Unitário | I5: Custo Anual
C6: Crachá | D6: pç | E6: 2 | F6: 24 | G6: =12/F6*E6 -> 1 | H6: 6.94 | I6: =G6*H6 -> 6.94
C8: CUSTO ANUAL DOS UTENSÍLIOS | I8: =SUM(I6:I7) -> 6.94
C9: CUSTO MENSAL DOS UTENSÍLIOS | I9: =I8/12 -> 0.57833333
C11: EQUIPAMENTOS - ASP | D11: Unidade | E11: Quantidade a disponibilizar por posto | F11: Depreciação (em meses) | G11: Quantidade Anual | H11: Valor Unitário | I11: Custo Anual
C12: Radios comunicadores *(especificar alcance e canal) | D12: pç | E12: 2 | F12: 60 | G12: =12/F12*E12 -> 0.4 | H12: 590.45 | I12: =G12*H12 -> 236.18
C14: CUSTO ANUAL DOS EQUIPAMENTOS | I14: =SUM(I12:I13) -> 236.18
C15: CUSTO MENSAL DOS EQUIPAMENTOS | I15: =I14/12 -> 19.681667
C17: UNIFORMES - ASP (individual para posto) | D17: Unidade | E17: Quantidade semestral por trabalhador | F17: Quantidade anual por trabalhador | G17: Quantidade anual por posto | H17: Valor Unitário | I17: Custo Anual
C18: Calça | D18: pç | E18: 2 | F18: =E18*2 -> 4 | G18: =F18 -> 4 | H18: 75 | I18: =G18*H18 -> 300
C19: Camisa de manga curta | D19: unidade | E19: 2 | F19: =E19*2 -> 4 | G19: 2 | H19: 84.66 | I19: =G19*H19 -> 169.32
C20: camisa de manga longa | D20: pç | E20: 2 | F20: =E20*2 -> 4 | G20: 2 | H20: 130.25 | I20: =G20*H20 -> 260.5
C21: Cinto nylon | D21: pç | E21: 1 | F21: =E21*2 -> 2 | G21: 2 | H21: 39.57 | I21: =G21*H21 -> 79.14
C22: Jaqueta/Japona de Nylon | D22: pç | E22: 1 | F22: =E22*2 -> 2 | G22: 2 | H22: 206.46 | I22: =G22*H22 -> 412.92
C23: Capa de chuva | D23: pç | E23: 1 | F23: =E23*2 -> 2 | G23: 2 | H23: 32.22 | I23: =G23*H23 -> 64.44
C24: Boné ou quepe | D24: pç | E24: 1 | F24: =E24*2 -> 2 | G24: 2 | H24: 22.86 | I24: =G24*H24 -> 45.72
C25: Botas de chuva | D25: unidade | E25: 0.5 | F25: =E25*2 -> 1 | G25: 2 | H25: 45.01 | I25: =G25*H25 -> 90.02
C26: Tênis macio e confortável | D26: par | E26: 1 | F26: =E26*2 -> 2 | G26: 2 | H26: 109.53 | I26: =G26*H26 -> 219.06
C28: CUSTO ANUAL DOS UNIFORMES | I28: =SUM(I18:I27) -> 1641.12
C29: CUSTO MENSAL DOS UNIFORMES | I29: =ROUND(I28/12,2) -> 136.76
B32: INSUMOS DE USO GERAL (ASP)
C35: EQUIPAMENTOS DE USO GERAL - ASP | D35: Unidade | E35: Quantidade a disponibilizar | F35: Depreciação (em meses) | G35: Quantidade Anual | H35: Valor Unitário | I35: Custo Anual
C36: Ponto biométrico | D36: pç | E36: 1 | F36: 60 | G36: =12/F36*E36 -> 0.2 | H36: 1980.49 | I36: =G36*H36 -> 396.098
I37: =G37*H37 -> 0
C38: CUSTO ANUAL DOS EQUIPAMENTOS | I38: =SUM(I36:I37) -> 396.098
C39: CUSTO MENSAL DOS EQUIPAMENTOS | I39: =I38/12 -> 33.008167
B42: QUADRO RESUMO
C45: QUADRO RESUMO - ASP | D45: CUSTO ANUAL | F45: CUSTO MENSAL | H45: Número de Postos | I45: Custo Mensal Total | J45: Custo Mensal por Posto
C46: =C5 -> MATERIAIS - ASP | D46: =I8 -> 6.94 | E46: =SUM(D46:D46) -> 6.94 | F46: =ROUND(D46/12,2) -> 0.58 | H46: 4 | I46: =F46*1*H46 -> 2.32 | J46: =ROUND(I46/H46,2) -> 0.58
C47: =C11 -> EQUIPAMENTOS - ASP | D47: =I14 -> 236.18 | F47: =ROUND(D47/12,2) -> 19.68 | H47: 4 | I47: =F47*1*H47 -> 78.72 | J47: =ROUND(I47/H47,2) -> 19.68
C48: =C17 -> UNIFORMES - ASP (individual para posto) | D48: =I28 -> 1641.12 | F48: =ROUND(D48/12,2) -> 136.76 | H48: 4 | I48: =F48*1*H48 -> 547.04 | J48: =ROUND(I48/H48,2) -> 136.76
C49: =C35 -> EQUIPAMENTOS DE USO GERAL - ASP | D49: =I38 -> 396.098 | F49: =ROUND(D49/12,2) -> 33.01 | H49: 4 | I49: =F49*1 -> 33.01 | J49: =ROUND(I49/H49,2) -> 8.25
C50: TOTAL - ASP | D50: =D46+D47+D48+D49 -> 2280.338 | F50: 205.81 | I50: =I49+I48+I47+I46 -> 661.09 | J50: =J49+J48+J47+J46 -> 165.27

Sheet RESUMO
A2: RESUMO
A3: ANEXO XX do Pregão Nº XX/202X MODELO DE PLANILHA DE CUSTOS E FORMAÇÃO DE PREÇOS
A4: Nº do processo:
A5: Licitação nº:
A6: Dia:
A7: DISCRIMINAÇÃO DOS SERVIÇOS (DADOS REFERENTES À CONTRATAÇÃO)
A8: A | B8: Data de apresentação da proposta (dia/mês/ano)
A9: B | B9: Município/UF | H9: Passo Fundo/RS
A10: C | B10: Ano do Acordo, Convenção ou Dissídio coletivo | H10: 1º de abril de 2024
A11: D | B11: Número de meses de execução contratual | H11: 60
A12: IDENTIFICAÇÃO DO SERVIÇO
A13: O complemento abaixo é uma planilha auxiliar que consolida as várias planilhas com os diferentes tipos de postos
A16: 3. COMPLEMENTO DOS SERVIÇOS DE VIGILÂNCIA – VALOR MENSAL DOS SERVIÇOS
A17: ESCALA DE TRABALHO | E17: PREÇO MENSAL DO POSTO (R$) | G17: NÚMERO DE POSTOS | H17: SUBTOTAL (R$)
A18: Grupo 2 | B18: Item 4 | C18: 44 (quarenta e quatro) horas semanais noturnas, de segunda a sábado envolvendo 1 (um) ASP | E18: ='ASP 44H - NOTURNO (44H)'!I179 -> 4901.41 | G18: 2 | H18: =E18*G18 -> 9802.82
B19: Item 5 | C19: 44 (quarenta e quatro) horas semanais diurnas, de segunda-feira a sábado envolvendo 1 (um) ASP | E19: ='ASP 44H - DIURNO (44H)'!I179 -> 4740.02 | G19: 2 | H19: =E19*G19 -> 9480.04
A21: TOTAL: | H21: =H19+H18 -> 19282.86
A23: Nota: Nos casos de inclusão de outros tipos de postos, observar o disposto no item 4 do Anexo VI-A, desta Instrução Normativa
A25: Valor mensal do serviço | H25: =$H$21 -> 19282.86
A27: Número de meses do contrato | H27: =$H$11 -> 60
A29: Valor global da proposta (valor mensal do serviço x nº de meses do contrato) | H29: =ROUND(H25*H27,2) -> 1156971.6
A31: QUANTIDADE DE PESSOAL ALOCADO NA EXECUÇÃO CONTRATUAL (item 6.2.e do Anexo VII da IN nº 5/2017 e item XXXX do edital)
A32: Tipo de Mão de Obra | D32: Quantidade de Pessoal
A34: ASP Noturno - 44H - segunda à sábado | D34: 2
A35: ASP Diurno - 44H - segunda à sábado | D35: 2
A36: TOTAL | D36: =SUM(D34:I35) -> 4
A39: Prazo de validade do Orçamento: 120 dias
A40: Nome do responsavel pelo orçamento: XXXXXXXXXXXXXXXX
A41: Razão social da empresa: XXXXXXXXXXXXXXXX
A42: CNPJ da empresa: XXXXXXXXXXXXXXXX
A43: Endereço da empresa: XXXXXXXXXXXXXXXX
A44: Telefone da empresa: XXXXXXXXXXXXXXXX
A45: Site da empresa: XXXXXXXXXXXXXXXX
A46: Declaração: Neste orçamento estão inclusos todos os custos e despesas para execução total dos serviços, incluindo impostos, taxas, lucro, custos indiretos, etc.
A49: XXXXXXXXXXXXXXXX, XX de XXXXXXXXXXXXXXXX de 20XX.
C53: assinatura do responsavel pelo orçamanto na empresa
