Workbook
Name _xlcn.WorksheetConnection_Planilha1AB1: #REF!
Name _xlcn.WorksheetConnection_Planilha1AB1: #REF!
Name _xlcn.WorksheetConnection_Planilha1AB1: #REF!

Sheet Orçamento P2
A5: IDENTIFICAÇÃO DA EMPRESA
A9: Planilha de Orçamento - GLOBAL
A11: Obra: Reforma Cobertura do Prédio 2 | F11: Endereço: Av. Perimetral Leste, nº 150, Lot. São Cristovão II
A12: Cliente: Instituto Federal Sul-Rio-Grandense - Câmpus Passo Fundo | F12: Cidade: Passo Fundo - RS | J12: BDI = | K12: xx | L12: 45200
A13: Item/Descrição | B13: Qtd. | C13: Un | D13: Mão-de-Obra | F13: Material | H13: Custo Unit. Total | I13: Custo Direto | J13: BDI | L13: Sub-Total do Item | M13: Total do Item
D14: Custo Unitário | E14: Custo Parcial | F14: Custo Unitário | G14: Custo Parcial | J14: Valor | K14: %
A16: 2. SERVIÇOS PRELIMINARES / TÉCNICOS | M16: =SUM(L17:L34) -> #VALUE!
A17: 2. 6. TAPUMES
A18: .1 LONA PLÁSTICA PARA PROTEÇÃO | B18: 509.5 | C18: M2 | E18: =D18*B18 -> 0 | G18: =F18*B18 -> 0 | H18: =+D18+F18 -> 0 | I18: =E18+G18 -> 0 | J18: =K18*I18 -> #VALUE! | K18: =$K$12 -> xx | L18: =I18+J18 -> #VALUE!
A19: 2. 7. PLACAS DE IDENTIFICAÇÃO DE EXERCÍCIO PROFISSIONAL EM OBRAS | N19: Cercamento | O19: =0.88*#REF! -> #REF!
A20: .1 PLACA DE OBRA EM ESTRUTURA DE ACO GALVANIZADO COM LONA | B20: 2.03 | C20: M2 | E20: =D20*B20 -> 0 | G20: =F20*B20 -> 0 | H20: =+D20+F20 -> 0 | I20: =E20+G20 -> 0 | J20: =K20*I20 -> #VALUE! | K20: =$K$12 -> xx | L20: =I20+J20 -> #VALUE! | N20: ADM | O20: =L20 -> #VALUE!
A21: 2. 8. DEMOLIÇÕES E REMOÇÕES
A22: 2. 8. 2. DEMOLIÇÃO DE ALVENARIA DE TIJOLOS
A23: .1 DEMOLICAO MANUAL DE ALVENARIA | B23: 0.64 | C23: M2 | E23: =D23*B23 -> 0 | G23: =F23*B23 -> 0 | H23: =+D23+F23 -> 0 | I23: =E23+G23 -> 0 | J23: =K23*I23 -> #VALUE! | K23: =$K$12 -> xx | L23: =I23+J23 -> #VALUE!
A24: 2. 8. 4. REMOÇÃO DE INSTALAÇÕES ELÉTRICAS
A25: .1 RETIRADA E REINSTALAÇÃO SPDA HASTES E SUPORTES | B25: 145 | C25: UN | E25: =D25*B25 -> 0 | G25: =F25*B25 -> 0 | H25: =+D25+F25 -> 0 | I25: =E25+G25 -> 0 | J25: =K25*I25 -> #VALUE! | K25: =$K$12 -> xx | L25: =I25+J25 -> #VALUE!
A26: 2. 8. 14. REMOÇÃO DE CONTRAPISO
A27: .1 DEMOLICAO MANUAL DE CONCRETO SIMPLES | B27: 0.35 | C27: M3 | E27: =D27*B27 -> 0 | G27: =F27*B27 -> 0 | H27: =+D27+F27 -> 0 | I27: =E27+G27 -> 0 | J27: =K27*I27 -> #VALUE! | K27: =$K$12 -> xx | L27: =I27+J27 -> #VALUE!
A28: 2. 8. 16. REMOÇÃO DE COBERTURA
A29: .1 REMOÇÃO DE COBERTURA DE TELHAS FIBROCIMENTO | B29: 509.5 | C29: M2 | E29: =D29*B29 -> 0 | G29: =F29*B29 -> 0 | H29: =+D29+F29 -> 0 | I29: =E29+G29 -> 0 | J29: =K29*I29 -> #VALUE! | K29: =$K$12 -> xx | L29: =I29+J29 -> #VALUE!
A30: .2 REMOCAO E REINSTALAÇÃO DE VENTILADOR EÓLICO | B30: 2 | C30: UN | E30: =D30*B30 -> 0 | G30: =F30*B30 -> 0 | H30: =+D30+F30 -> 0 | I30: =E30+G30 -> 0 | J30: =K30*I30 -> #VALUE! | K30: =$K$12 -> xx | L30: =I30+J30 -> #VALUE!
A31: .3 REMOÇÃO DE RUFO/ALGEROSA CHAPA GALVANIZADA | B31: 106.16 | C31: M | E31: =D31*B31 -> 0 | G31: =F31*B31 -> 0 | H31: =+D31+F31 -> 0 | I31: =E31+G31 -> 0 | J31: =K31*I31 -> #VALUE! | K31: =$K$12 -> xx | L31: =I31+J31 -> #VALUE!
A32: .4 REMOÇÃO DE CALHA CHAPA GALVANIZADA | B32: 12.4 | C32: M | E32: =D32*B32 -> 0 | G32: =F32*B32 -> 0 | H32: =+D32+F32 -> 0 | I32: =E32+G32 -> 0 | J32: =K32*I32 -> #VALUE! | K32: =$K$12 -> xx | L32: =I32+J32 -> #VALUE!
A33: 2. 10. TRANSPORTES
A34: .1 CARGA MANUAL E TRANSPORTE DE ENTULHO | B34: 27.5 | C34: M3 | E34: =D34*B34 -> 0 | G34: =F34*B34 -> 0 | H34: =+D34+F34 -> 0 | I34: =E34+G34 -> 0 | J34: =K34*I34 -> #VALUE! | K34: =$K$12 -> xx | L34: =I34+J34 -> #VALUE!
A35: 8. ESQUADRIAS | M35: =SUM(L36:L38) -> #VALUE!
A36: 8. 3. ESQUADRIAS DE FERRO GALVANIZADO
A37: 8. 3. 4. ESCADAS DE MARINHEIRO
A38: .1 ESCADA TIPO MARINHEIRO EM ACO GALVANIZADO, COM GAIOLA E PLATAFORMA, INCLUSO FUNDO E PINTURA ESMALTE | B38: 6.72 | C38: M | E38: =D38*B38 -> 0 | G38: =F38*B38 -> 0 | H38: =+D38+F38 -> 0 | I38: =E38+G38 -> 0 | J38: =K38*I38 -> #VALUE! | K38: =$K$12 -> xx | L38: =I38+J38 -> #VALUE!
A39: 9. COBERTURA | M39: =SUM(L40:L55) -> #VALUE!
A40: 9. 2. TELHAMENTO
A41: 9. 2. 2. COM TELHAS METÁLICAS
A42: .1 COBERTURA COM TELHA TERMOACÚSTICA TP35 + EPS + FORRO LISO BRANCO | B42: 509.5 | C42: M2 | E42: =D42*B42 -> 0 | G42: =F42*B42 -> 0 | H42: =+D42+F42 -> 0 | I42: =E42+G42 -> 0 | J42: =K42*I42 -> #VALUE! | K42: =$K$12 -> xx | L42: =I42+J42 -> #VALUE! | N42: Cobertura | O42: =L42-O45 -> #VALUE!
A43: .2 CUMEEIRA PARA TELHA ACO ZINCADO TRAPEZOIDAL | B43: 50.5 | C43: M | E43: =D43*B43 -> 0 | G43: =F43*B43 -> 0 | H43: =+D43+F43 -> 0 | I43: =E43+G43 -> 0 | J43: =K43*I43 -> #VALUE! | K43: =$K$12 -> xx | L43: =I43+J43 -> #VALUE!
A44: .3 IÇAMENTO DE TELHA METÁLICA, DE FORMA MECANIZADA, COM USO DE GUINDASTE | B44: 509.5 | C44: M2 | E44: =D44*B44 -> 0 | G44: =F44*B44 -> 0 | H44: =+D44+F44 -> 0 | I44: =E44+G44 -> 0 | J44: =K44*I44 -> #VALUE! | K44: =$K$12 -> xx | L44: =I44+J44 -> #VALUE!
A45: 9. 3. CALHAS | N45: Parada | O45: =63.55/B42*L42 -> #VALUE!
A46: 9. 3. 2. DE PLATIBANDA
A47: .1 CALHA BEIRAL CHAPA GALVANIZADA CORTE 70 | B47: 4 | C47: M | E47: =D47*B47 -> 0 | G47: =F47*B47 -> 0 | H47: =+D47+F47 -> 0 | I47: =E47+G47 -> 0 | J47: =K47*I47 -> #VALUE! | K47: =$K$12 -> xx | L47: =I47+J47 -> #VALUE! | N47: Cobertura | O47: =L47 -> #VALUE!
A48: .2 CALHA CENTRAL CHAPA GALVANIZADA CORTE 120 | B48: 16.4 | C48: M | E48: =D48*B48 -> 0 | G48: =F48*B48 -> 0 | H48: =+D48+F48 -> 0 | I48: =E48+G48 -> 0 | J48: =K48*I48 -> #VALUE! | K48: =$K$12 -> xx | L48: =I48+J48 -> #VALUE!
A49: .3 BOCAL CALHA/TUBO DE QUEDA EM CHAPA GALVANIZADA | B49: 8 | C49: UN | E49: =D49*B49 -> 0 | G49: =F49*B49 -> 0 | H49: =+D49+F49 -> 0 | I49: =E49+G49 -> 0 | J49: =K49*I49 -> #VALUE! | K49: =$K$12 -> xx | L49: =I49+J49 -> #VALUE!
...

Sheet Cronograma P2
A4: IDENTIFICAÇÃO DA EMPRESA
A11: Obra: Reforma Cobertura do Prédio 2 | C11: Endereço: Av. Perimetral Leste, nº 150, Lot. São Cristovão II
A12: Cliente: Instituto Federal Sul-Rio-Grandense - Câmpus Passo Fundo | C12: Cidade: Passo Fundo - RS
A14: ITEM | B14: 30 dias | D14: TOTAL
B15: VALOR | C15: % | D15: VALOR | E15: %
A16: 1. PROJETOS
A17: 2. SERVIÇOS PRELIMINARES / TÉCNICOS | B17: =C17*$D17 -> #VALUE! | C17: 1 | D17: ='Orçamento P2'!M16 -> #VALUE! | E17: =C17 -> 1
A18: 3. MOVIMENTO DE TERRA
A19: 4. INFRA-ESTRUTURA / FUNDAÇÕES SIMPLES
A20: 5. FUNDAÇÕES ESPECIAIS
A21: 6. SUPERESTRUTURA
A22: 7. ALVENARIA / VEDAÇÃO / DIVISÓRIA
A23: 8. ESQUADRIAS | B23: =C23*$D23 -> #VALUE! | C23: 1 | D23: ='Orçamento P2'!M35 -> #VALUE! | E23: =C23 -> 1
A24: 9. COBERTURA | B24: =C24*$D24 -> #VALUE! | C24: 1 | D24: ='Orçamento P2'!M39 -> #VALUE! | E24: =C24 -> 1
A25: 10. INSTALAÇÕES ELÉTRICAS
A26: 11. INSTALAÇÕES LÓGICA / TELEFÔNICA
A27: 12. INSTALAÇÕES HIDROSSANITÁRIAS | B27: =C27*$D27 -> #VALUE! | C27: 1 | D27: ='Orçamento P2'!M56 -> #VALUE! | E27: =C27 -> 1
A28: 13. IMPERMEABILIZAÇÃO, ISOLAÇÃO TÉRMICA E ACÚSTICA
A29: 14. INSTALAÇÕES DE COMBATE A INCÊNDIO
A30: 15. REVESTIMENTOS
A31: 16. VIDROS
A32: 17. PINTURA
A33: 18. SERVIÇOS COMPLEMENTARES | B33: =C33*$D33 -> #VALUE! | C33: 1 | D33: ='Orçamento P2'!M63 -> #VALUE! | E33: =C33 -> 1
A34: 19. PAISAGISMO / URBANIZAÇÃO | G34: Passo Fundo, outubro de 2023
A35: 20. EQUIPAMENTOS
A36: 21. GERENCIAMENTO DE OBRAS / FISCALIZAÇÃO | B36: =C36*$D36 -> #VALUE! | C36: 1 | D36: ='Orçamento P2'!M66 -> #VALUE! | E36: =C36 -> 1
A37: 22. FORRO
A38: 23. AR CONDICIONADO
A39: 24. PISO | B39: =C39*$D39 -> #VALUE! | C39: 1 | D39: ='Orçamento P2'!M70 -> #VALUE! | E39: =C39 -> 1 | G39: Responsável Técnico
A40: Total da Etapa | B40: =SUM(B16:B39) -> #VALUE! | C40: =B40/$D$40 -> #VALUE! | D40: ='Orçamento P2'!M75 -> #VALUE! | E40: =C40 -> #VALUE! | G40: CREA/CAU
A41: Total Acumulado | B41: =B40 -> #VALUE! | C41: =C40 -> #VALUE! | D41: =SUM(D16:D39) -> #VALUE!
