Workbook
Name _xlcn.WorksheetConnection_Planilha1AB1: #REF!
Name _xlcn.WorksheetConnection_Planilha1AB1: #REF!
Name _xlcn.WorksheetConnection_Planilha1AB1: #REF!

Sheet Orçamento P2
A5: IDENTIFICAÇÃO DA EMPRESA
A9: Planilha de Orçamento - GLOBAL
A11: Obra: Reforma Cobertura do Prédio 2 | F11: Endereço: Av. Perimetral Leste, nº 150, Lot. São Cristovão II
A12: Cliente: Instituto Federal Sul-Rio-Grandense - Câmpus Passo Fundo | F12: Cidade: Passo Fundo - RS | J12: BDI = | K12: xx | L12: 45200
A13: Item/Descrição | B13: Qtd. | C13: Un | D13: Mão-de-Obra | F13: Material | H13: Custo Unit. Total | I13: Custo Direto | J13: BDI | L13: Sub-Total do Item | M13: Total do Item
D14: Custo Unitário | E14: Custo Parcial | F14: Custo Unitário | G14: Custo Parcial | J14: Valor | K14: %
A16: 2. SERVIÇOS PRELIMINARES / TÉCNICOS | M16: =SUM(L17:L34) -> #VALUE!
A17: 2. 6. TAPUMES
A18: .1 LONA PLÁSTICA PARA PROTEÇÃO | B18: 509.5 | C18: M2 | E18: =D18*B18 -> 0 | G18: =F18*B18 -> 0 | H18: =+D18+F18 -> 0 | I18: =E18+G18 -> 0 | J18: =K18*I18 -> #VALUE! | K18: =$K$12 -> xx | L18: =I18+J18 -> #VALUE!
A19: 2. 7. PLACAS DE IDENTIFICAÇÃO DE EXERCÍCIO PROFISSIONAL EM OBRAS | N19: Cercamento | O19: =0.88*#REF! -> #REF!
A20: .1 PLACA DE OBRA EM ESTRUTURA DE ACO GALVANIZADO COM LONA | B20: 2.03 | C20: M2 | E20: =D20*B20 -> 0 | G20: =F20*B20 -> 0 | H20: =+D20+F20 -> 0 | I20: =E20+G20 -> 0 | J20: =K20*I20 -> #VALUE! | K20: =$K$12 -> xx | L20: =I20+J20 -> #VALUE! | N20: ADM | O20: =L20 -> #VALUE!
A21: 2. 8. DEMOLIÇÕES E REMOÇÕES
A22: 2. 8. 2. DEMOLIÇÃO DE ALVENARIA DE TIJOLOS
A23: .1 DEMOLICAO MANUAL DE ALVENARIA | B23: 0.64 | C23: M2 | E23: =D23*B23 -> 0 | G23: =F23*B23 -> 0 | H23: =+D23+F23 -> 0 | I23: =E23+G23 -> 0 | J23: =K23*I23 -> #VALUE! | K23: =$K$12 -> xx | L23: =I23+J23 -> #VALUE!
A24: 2. 8. 4. REMOÇÃO DE INSTALAÇÕES ELÉTRICAS
A25: .1 RETIRADA E REINSTALAÇÃO SPDA HASTES E SUPORTES | B25: 145 | C25: UN | E25: =D25*B25 -> 0 | G25: =F25*B25 -> 0 | H25: =+D25+F25 -> 0 | I25: =E25+G25 -> 0 | J25: =K25*I25 -> #VALUE! | K25: =$K$12 -> xx | L25: =I25+J25 -> #VALUE!
A26: 2. 8. 14. REMOÇÃO DE CONTRAPISO
A27: .1 DEMOLICAO MANUAL DE CONCRETO SIMPLES | B27: 0.35 | C27: M3 | E27: =D27*B27 -> 0 | G27: =F27*B27 -> 0 | H27: =+D27+F27 -> 0 | I27: =E27+G27 -> 0 | J27: =K27*I27 -> #VALUE! | K27: =$K$12 -> xx | L27: =I27+J27 -> #VALUE!
A28: 2. 8. 16. REMOÇÃO DE COBERTURA
A29: .1 REMOÇÃO DE COBERTURA DE TELHAS FIBROCIMENTO | B29: 509.5 | C29: M2 | E29: =D29*B29 -> 0 | G29: =F29*B29 -> 0 | H29: =+D29+F29 -> 0 | I29: =E29+G29 -> 0 | J29: =K29*I29 -> #VALUE! | K29: =$K$12 -> xx | L29: =I29+J29 -> #VALUE!
A30: .2 REMOCAO E REINSTALAÇÃO DE VENTILADOR EÓLICO | B30: 2 | C30: UN | E30: =D30*B30 -> 0 | G30: =F30*B30 -> 0 | H30: =+D30+F30 -> 0 | I30: =E30+G30 -> 0 | J30: =K30*I30 -> #VALUE! | K30: =$K$12 -> xx | L30: =I30+J30 -> #VALUE!
A31: .3 REMOÇÃO DE RUFO/ALGEROSA CHAPA GALVANIZADA | B31: 106.16 | C31: M | E31: =D31*B31 -> 0 | G31: =F31*B31 -> 0 | H31: =+D31+F31 -> 0 | I31: =E31+G31 -> 0 | J31: =K31*I31 -> #VALUE! | K31: =$K$12 -> xx | L31: =I31+J31 -> #VALUE!
A32: .4 REMOÇÃO DE CALHA CHAPA GALVANIZADA | B32: 12.4 | C32: M | E32: =D32*B32 -> 0 | G32: =F32*B32 -> 0 | H32: =+D32+F32 -> 0 | I32: =E32+G32 -> 0 | J32: =K32*I32 -> #VALUE! | K32: =$K$12 -> xx | L32: =I32+J32 -> #VALUE!
A33: 2. 10. TRANSPORTES
A34: .1 CARGA MANUAL E TRANSPORTE DE ENTULHO | B34: 27.5 | C34: M3 | E34: =D34*B34 -> 0 | G34: =F34*B34 -> 0 | H34: =+D34+F34 -> 0 | I34: =E34+G34 -> 0 | J34: =K34*I34 -> #VALUE! | K34: =$K$12 -> xx | L34: =I34+J34 -> #VALUE!
A35: 8. ESQUADRIAS | M35: =SUM(L36:L38) -> #VALUE!
A36: 8. 3. ESQUADRIAS DE FERRO GALVANIZADO
A37: 8. 3. 4. ESCADAS DE MARINHEIRO
A38: .1 ESCADA TIPO MARINHEIRO EM ACO GALVANIZADO, COM GAIOLA E PLATAFORMA, INCLUSO FUNDO E PINTURA ESMALTE | B38: 6.72 | C38: M | E38: =D38*B38 -> 0 | G38: =F38*B38 -> 0 | H38: =+D38+F38 -> 0 | I38: =E38+G38 -> 0 | J38: =K38*I38 -> #VALUE! | K38: =$K$12 -> xx | L38: =I38+J38 -> #VALUE!
A39: 9. COBERTURA | M39: =SUM(L40:L55) -> #VALUE!
A40: 9. 2. TELHAMENTO
A41: 9. 2. 2. COM TELHAS METÁLICAS
A42: .1 COBERTURA COM TELHA TERMOACÚSTICA TP35 + EPS + FORRO LISO BRANCO | B42: 509.5 | C42: M2 | E42: =D42*B42 -> 0 | G42: =F42*B42 -> 0 | H42: =+D42+F42 -> 0 | I42: =E42+G42 -> 0 | J42: =K42*I42 -> #VALUE! | K42: =$K$12 -> xx | L42: =I42+J42 -> #VALUE! | N42: Cobertura | O42: =L42-O45 -> #VALUE!
A43: .2 CUMEEIRA PARA TELHA ACO ZINCADO TRAPEZOIDAL | B43: 50.5 | C43: M | E43: =D43*B43 -> 0 | G43: =F43*B43 -> 0 | H43: =+D43+F43 -> 0 | I43: =E43+G43 -> 0 | J43: =K43*I43 -> #VALUE! | K43: =$K$12 -> xx | L43: =I43+J43 -> #VALUE!
A44: .3 IÇAMENTO DE TELHA METÁLICA, DE FORMA MECANIZADA, COM USO DE GUINDASTE | B44: 509.5 | C44: M2 | E44: =D44*B44 -> 0 | G44: =F44*B44 -> 0 | H44: =+D44+F44 -> 0 | I44: =E44+G44 -> 0 | J44: =K44*I44 -> #VALUE! | K44: =$K$12 -> xx | L44: =I44+J44 -> #VALUE!
A45: 9. 3. CALHAS | N45: Parada | O45: =63.55/B42*L42 -> #VALUE!
A46: 9. 3. 2. DE PLATIBANDA
A47: .1 CALHA BEIRAL CHAPA GALVANIZADA CORTE 70 | B47: 4 | C47: M | E47: =D47*B47 -> 0 | G47: =F47*B47 -> 0 | H47: =+D47+F47 -> 0 | I47: =E47+G47 -> 0 | J47: =K47*I47 -> #VALUE! | K47: =$K$12 -> xx | L47: =I47+J47 -> #VALUE! | N47: Cobertura | O47: =L47 -> #VALUE!
A48: .2 CALHA CENTRAL CHAPA GALVANIZADA CORTE 120 | B48: 16.4 | C48: M | E48: =D48*B48 -> 0 | G48: =F48*B48 -> 0 | H48: =+D48+F48 -> 0 | I48: =E48+G48 -> 0 | J48: =K48*I48 -> #VALUE! | K48: =$K$12 -> xx | L48: =I48+J48 -> #VALUE!
A49: .3 BOCAL CALHA/TUBO DE QUEDA EM CHAPA GALVANIZADA | B49: 8 | C49: UN | E49: =D49*B49 -> 0 | G49: =F49*B49 -> 0 | H49: =+D49+F49 -> 0 | I49: =E49+G49 -> 0 | J49: =K49*I49 -> #VALUE! | K49: =$K$12 -> xx | L49: =I49+J49 -> #VALUE!
A50: .4 AJUSTE INCLINAÇÃO DAS CALHAS | B50: 77.6 | C50: M | E50: =D50*B50 -> 0 | G50: =F50*B50 -> 0 | H50: =+D50+F50 -> 0 | I50: =E50+G50 -> 0 | J50: =K50*I50 -> #VALUE! | K50: =$K$12 -> xx | L50: =I50+J50 -> #VALUE!
A51: 9. 4. RUFOS
A52: 9. 4. 2. PARA TELHA METÁLICA
A53: .1 RUFO CHAPA GALVANIZADA CORTE 50 | B53: 58.8 | C53: M | E53: =D53*B53 -> 0 | G53: =F53*B53 -> 0 | H53: =+D53+F53 -> 0 | I53: =E53+G53 -> 0 | J53: =K53*I53 -> #VALUE! | K53: =$K$12 -> xx | L53: =I53+J53 -> #VALUE! | N53: Cobertura | O53: =L53-#REF! -> #VALUE!
A54: 9. 5. ALGEROSAS E/OU CAPAS
A55: .1 CAPA MURO CHAPA GALVANIZADA | B55: 159.3 | C55: M2 | E55: =D55*B55 -> 0 | G55: =F55*B55 -> 0 | H55: =+D55+F55 -> 0 | I55: =E55+G55 -> 0 | J55: =K55*I55 -> #VALUE! | K55: =$K$12 -> xx | L55: =I55+J55 -> #VALUE!
A56: 12. INSTALAÇÕES HIDRÁULICAS E SANITÁRIAS | M56: =SUM(L57:L62) -> #VALUE!
A57: 12. 6. ESGOTO PLUVIAL
A58: 12. 6. 1. TUBOS E CONEXÕES
A59: .1 TUBO PVC RIGIDO 100MM | B59: 32 | C59: M | E59: =D59*B59 -> 0 | G59: =F59*B59 -> 0 | H59: =+D59+F59 -> 0 | I59: =E59+G59 -> 0 | J59: =K59*I59 -> #VALUE! | K59: =$K$12 -> xx | L59: =I59+J59 -> #VALUE! | N59: Inst. Hidro | O59: =L59 -> #VALUE!
A60: .2 TUBO PVC RIGIDO 150MM | B60: 32 | C60: M | E60: =D60*B60 -> 0 | G60: =F60*B60 -> 0 | H60: =+D60+F60 -> 0 | I60: =E60+G60 -> 0 | J60: =K60*I60 -> #VALUE! | K60: =$K$12 -> xx | L60: =I60+J60 -> #VALUE! | N60: Inst. Hidro | O60: =L60 -> #VALUE!
A61: .3 CURVA 90 PVC RIGIDO 100MM | B61: 4 | C61: UN. | E61: =D61*B61 -> 0 | G61: =F61*B61 -> 0 | H61: =+D61+F61 -> 0 | I61: =E61+G61 -> 0 | J61: =K61*I61 -> #VALUE! | K61: =$K$12 -> xx | L61: =I61+J61 -> #VALUE! | N61: Inst. Hidro | O61: =L61 -> #VALUE!
A62: .4 CURVA 90 PVC RIGIDO 150MM | B62: 4 | C62: UN. | E62: =D62*B62 -> 0 | G62: =F62*B62 -> 0 | H62: =+D62+F62 -> 0 | I62: =E62+G62 -> 0 | J62: =K62*I62 -> #VALUE! | K62: =$K$12 -> xx | L62: =I62+J62 -> #VALUE! | N62: Inst. Hidro | O62: =L62 -> #VALUE!
A63: 18. SERVIÇOS COMPLEMENTARES | M63: =SUM(L64:L65) -> #VALUE!
A64: 18. 5. LIMPEZA E ENTREGA DA OBRA
A65: .1 LIMPEZA FINAL DA OBRA | B65: =B42 -> 509.5 | C65: M2 | E65: =D65*B65 -> 0 | G65: =F65*B65 -> 0 | H65: =+D65+F65 -> 0 | I65: =E65+G65 -> 0 | J65: =K65*I65 -> #VALUE! | K65: =$K$12 -> xx | L65: =I65+J65 -> #VALUE! | N65: ADM | O65: =L65 -> #VALUE!
A66: 21. GERENCIAMENTO DE OBRAS / FISCALIZAÇÃO | M66: =SUM(L67:L69) -> #VALUE!
A67: 21. 1. ADMINISTRAÇÃO DA OBRA
A68: 21. 1. 1. DESPESAS COM PESSOAL
A69: .1 AUXILIAR TÉCNICO DE ENGENHARIA | B69: 80 | C69: H | E69: =D69*B69 -> 0 | G69: =F69*B69 -> 0 | H69: =+D69+F69 -> 0 | I69: =E69+G69 -> 0 | J69: =K69*I69 -> #VALUE! | K69: =$K$12 -> xx | L69: =I69+J69 -> #VALUE! | N69: ADM | O69: =L69 -> #VALUE!
A70: 24. PISOS | M70: =SUM(L71:L74) -> #VALUE!
A71: 24. 1. PREPARAÇÃO DA BASE
A72: .1 LASTRO MANUAL COM BRITA | B72: 0.7 | C72: M3 | E72: =D72*B72 -> 0 | G72: =F72*B72 -> 0 | H72: =+D72+F72 -> 0 | I72: =E72+G72 -> 0 | J72: =K72*I72 -> #VALUE! | K72: =$K$12 -> xx | L72: =I72+J72 -> #VALUE!
A73: 24. 2. CONTRAPISO
A74: .1 CONCRETO MAGRO FCK15MPA | B74: 0.35 | C74: M3 | E74: =D74*B74 -> 0 | G74: =F74*B74 -> 0 | H74: =+D74+F74 -> 0 | I74: =E74+G74 -> 0 | J74: =K74*I74 -> #VALUE! | K74: =$K$12 -> xx | L74: =I74+J74 -> #VALUE!
H75: TOTAL DO ORÇAMENTO | M75: =SUM(M16:M74) -> #VALUE!
L77: Passo Fundo, outubro de 2023
F81: Responsável Técnico
F82: CREA/CAU

Sheet Cronograma P2
A4: IDENTIFICAÇÃO DA EMPRESA
A11: Obra: Reforma Cobertura do Prédio 2 | C11: Endereço: Av. Perimetral Leste, nº 150, Lot. São Cristovão II
A12: Cliente: Instituto Federal Sul-Rio-Grandense - Câmpus Passo Fundo | C12: Cidade: Passo Fundo - RS
A14: ITEM | B14: 30 dias | D14: TOTAL
B15: VALOR | C15: % | D15: VALOR | E15: %
A16: 1. PROJETOS
A17: 2. SERVIÇOS PRELIMINARES / TÉCNICOS | B17: =C17*$D17 -> #VALUE! | C17: 1 | D17: ='Orçamento P2'!M16 -> #VALUE! | E17: =C17 -> 1
A18: 3. MOVIMENTO DE TERRA
A19: 4. INFRA-ESTRUTURA / FUNDAÇÕES SIMPLES
A20: 5. FUNDAÇÕES ESPECIAIS
A21: 6. SUPERESTRUTURA
A22: 7. ALVENARIA / VEDAÇÃO / DIVISÓRIA
A23: 8. ESQUADRIAS | B23: =C23*$D23 -> #VALUE! | C23: 1 | D23: ='Orçamento P2'!M35 -> #VALUE! | E23: =C23 -> 1
A24: 9. COBERTURA | B24: =C24*$D24 -> #VALUE! | C24: 1 | D24: ='Orçamento P2'!M39 -> #VALUE! | E24: =C24 -> 1
A25: 10. INSTALAÇÕES ELÉTRICAS
A26: 11. INSTALAÇÕES LÓGICA / TELEFÔNICA
A27: 12. INSTALAÇÕES HIDROSSANITÁRIAS | B27: =C27*$D27 -> #VALUE! | C27: 1 | D27: ='Orçamento P2'!M56 -> #VALUE! | E27: =C27 -> 1
A28: 13. IMPERMEABILIZAÇÃO, ISOLAÇÃO TÉRMICA E ACÚSTICA
A29: 14. INSTALAÇÕES DE COMBATE A INCÊNDIO
A30: 15. REVESTIMENTOS
A31: 16. VIDROS
A32: 17. PINTURA
A33: 18. SERVIÇOS COMPLEMENTARES | B33: =C33*$D33 -> #VALUE! | C33: 1 | D33: ='Orçamento P2'!M63 -> #VALUE! | E33: =C33 -> 1
A34: 19. PAISAGISMO / URBANIZAÇÃO | G34: Passo Fundo, outubro de 2023
A35: 20. EQUIPAMENTOS
A36: 21. GERENCIAMENTO DE OBRAS / FISCALIZAÇÃO | B36: =C36*$D36 -> #VALUE! | C36: 1 | D36: ='Orçamento P2'!M66 -> #VALUE! | E36: =C36 -> 1
A37: 22. FORRO
A38: 23. AR CONDICIONADO
A39: 24. PISO | B39: =C39*$D39 -> #VALUE! | C39: 1 | D39: ='Orçamento P2'!M70 -> #VALUE! | E39: =C39 -> 1 | G39: Responsável Técnico
A40: Total da Etapa | B40: =SUM(B16:B39) -> #VALUE! | C40: =B40/$D$40 -> #VALUE! | D40: ='Orçamento P2'!M75 -> #VALUE! | E40: =C40 -> #VALUE! | G40: CREA/CAU
A41: Total Acumulado | B41: =B40 -> #VALUE! | C41: =C40 -> #VALUE! | D41: =SUM(D16:D39) -> #VALUE!
